Workbook
Name _Ref320204367: '12 - Notes Interest'!#REF!
Name Adressenübersicht: 'AMORT. PROFILE 0% CPR'!Adressenübersicht
Name Adressenübersicht: 'AMORT. PROFILE 8% CPR (SG)'!Adressenübersicht
Name Adressenübersicht: #N/A
Name Auswahl_Anschreiben: 'AMORT. PROFILE 0% CPR'!Auswahl_Anschreiben
Name Auswahl_Anschreiben: 'AMORT. PROFILE 8% CPR (SG)'!Auswahl_Anschreiben
Name Auswahl_Anschreiben: #N/A
Name B_2: #REF!
Name B_2: #REF!
Name Banken: 'AMORT. PROFILE 0% CPR'!Banken
Name Banken: 'AMORT. PROFILE 8% CPR (SG)'!Banken
Name Banken: #N/A
Name Bankverbindungen: 'AMORT. PROFILE 0% CPR'!Bankverbindungen
Name Bankverbindungen: 'AMORT. PROFILE 8% CPR (SG)'!Bankverbindungen
Name Bankverbindungen: #N/A
Name bbbb: 'AMORT. PROFILE 0% CPR'!bbbb
Name bbbb: 'AMORT. PROFILE 8% CPR (SG)'!bbbb
Name CALD: #REF!
Name concentration: #REF!
Name Darlehn: 'AMORT. PROFILE 0% CPR'!Darlehn
Name Darlehn: 'AMORT. PROFILE 8% CPR (SG)'!Darlehn
Name Darlehn: #N/A
Name Database1: #REF!
Name Database1: #REF!
Name DATE: #REF!
Name DATE: #REF!
Name Date_Actuelle: #REF!
Name Date_Actuelle: #REF!
Name Debi_Kredi_Übersicht: 'AMORT. PROFILE 0% CPR'!Debi_Kredi_Übersicht
Name Debi_Kredi_Übersicht: 'AMORT. PROFILE 8% CPR (SG)'!Debi_Kredi_Übersicht
Name Debi_Kredi_Übersicht: #N/A
Name defaulted_recovery: #REF!
Name delinquency_i: #REF!
Name delinquency_m: #REF!
Name delinquency_n: #REF!
Name Delinquency2: #REF!
Name Delinquency3: #REF!
Name dis_int_nom: #REF!
Name dis_mat: #REF!
Name dis_or: #REF!
Name dis_orig: #REF!
Name dis_rema: #REF!
Name dis_seas: #REF!
Name dist_bal_curr: #REF!
Name dist_bal_org: #REF!
Name dist_res: #REF!
Name dRAFT: 'AMORT. PROFILE 0% CPR'!dRAFT
Name dRAFT: 'AMORT. PROFILE 8% CPR (SG)'!dRAFT
Name dRAFT: #N/A
Name Druckübersicht: 'AMORT. PROFILE 0% CPR'!Druckübersicht
Name Druckübersicht: 'AMORT. PROFILE 8% CPR (SG)'!Druckübersicht
Name Druckübersicht: #N/A
Name Folder: #REF!
Name Folder: #REF!
Name Folder: #REF!
Name geo_mat: #REF!
Name h: #REF!
Name ID: #REF!
Name ID: #REF!
Name ID: #REF!

Sheet OD compta
B3: Date | C3: Compte | D3: Libellé | E3: Débit | F3: Crédit
K4: =MONTH(B5) -> 9
B5: ='00 - Cover'!F20 -> 46293 | C5: 653000 | D5: ="Flux de "&_xlfn.SINGLE( _xlfn.XLOOKUP($K$4,L:L,M:M,FALSE)) -> Flux de Septembre | E5: 0 | G5: BQ | L5: 1 | M5: Janvier
B6: =+B5 -> 46293 | C6: 512000 | D6: ="Flux de "&_xlfn.SINGLE( _xlfn.XLOOKUP($K$4,L:L,M:M,FALSE)) -> Flux de Septembre | F6: =E5 -> 0 | G6: BQ | L6: 2 | M6: Fevrier
B7: =+B6 -> 46293 | C7: 653000 | D7: ="Flux de "&_xlfn.SINGLE( _xlfn.XLOOKUP($K$4,L:L,M:M,FALSE)) -> Flux de Septembre | E7: =ROUNDDOWN('14 - Fees'!J40+'14 - Fees'!J41,2) -> 480 | G7: BQ | L7: 3 | M7: Mars
B8: =+B7 -> 46293 | C8: 512000 | D8: ="Flux de "&_xlfn.SINGLE( _xlfn.XLOOKUP($K$4,L:L,M:M,FALSE)) -> Flux de Septembre | F8: =E7 -> 480 | G8: BQ | L8: 4 | M8: Avril
B9: =+B8 -> 46293 | C9: 653000 | D9: ="Flux de "&_xlfn.SINGLE( _xlfn.XLOOKUP($K$4,L:L,M:M,FALSE)) -> Flux de Septembre | E9: =ROUNDDOWN('14 - Fees'!J36,2) -> 1050 | G9: BQ | L9: 5 | M9: Mai
B10: =+B9 -> 46293 | C10: 512000 | D10: ="Flux de "&_xlfn.SINGLE( _xlfn.XLOOKUP($K$4,L:L,M:M,FALSE)) -> Flux de Septembre | F10: =E9 -> 1050 | G10: BQ | L10: 6 | M10: Juin
B11: =+B10 -> 46293 | C11: 653000 | D11: ="Flux de "&_xlfn.SINGLE( _xlfn.XLOOKUP($K$4,L:L,M:M,FALSE)) -> Flux de Septembre | E11: =ROUNDDOWN('14 - Fees'!J18,2) -> 5416.67 | G11: BQ | L11: 7 | M11: Juillet
B12: =+B11 -> 46293 | C12: 512000 | D12: ="Flux de "&_xlfn.SINGLE( _xlfn.XLOOKUP($K$4,L:L,M:M,FALSE)) -> Flux de Septembre | F12: =E11 -> 5416.67 | G12: BQ | L12: 8 | M12: Aout
B13: =+B12 -> 46293 | C13: 653000 | D13: ="Flux de "&_xlfn.SINGLE( _xlfn.XLOOKUP($K$4,L:L,M:M,FALSE)) -> Flux de Septembre | E13: =ROUNDDOWN('14 - Fees'!J34,2) -> 12500 | G13: BQ | L13: 9 | M13: Septembre
B14: =+B13 -> 46293 | C14: 512000 | D14: ="Flux de "&_xlfn.SINGLE( _xlfn.XLOOKUP($K$4,L:L,M:M,FALSE)) -> Flux de Septembre | F14: =E13 -> 12500 | G14: BQ | L14: 10 | M14: Octobre
B15: =+B14 -> 46293 | C15: 654000 | D15: ="Flux de "&_xlfn.SINGLE( _xlfn.XLOOKUP($K$4,L:L,M:M,FALSE)) -> Flux de Septembre | E15: =ROUNDDOWN('14 - Fees'!J54,2) -> 17125.69 | G15: BQ | L15: 11 | M15: Novembre
B16: =+B15 -> 46293 | C16: 512000 | D16: ="Flux de "&_xlfn.SINGLE( _xlfn.XLOOKUP($K$4,L:L,M:M,FALSE)) -> Flux de Septembre | F16: =E15 -> 17125.69 | G16: BQ | L16: 12 | M16: Decembre
B17: =+B16 -> 46293 | C17: 654000 | D17: ="Flux de "&_xlfn.SINGLE( _xlfn.XLOOKUP($K$4,L:L,M:M,FALSE)) -> Flux de Septembre | E17: =ROUNDDOWN('14 - Fees'!J53,2) -> 2214141.9 | G17: BQ
B18: =+B17 -> 46293 | C18: 512000 | D18: ="Flux de "&_xlfn.SINGLE( _xlfn.XLOOKUP($K$4,L:L,M:M,FALSE)) -> Flux de Septembre | F18: =E17 -> 2214141.9 | G18: BQ
B19: =+B18 -> 46293 | C19: 601200 | D19: ="Flux de "&_xlfn.SINGLE( _xlfn.XLOOKUP($K$4,L:L,M:M,FALSE)) -> Flux de Septembre | E19: =ROUNDDOWN('12 - Notes Interest'!AC17,2) -> 698818.56 | G19: BQ
B20: =+B19 -> 46293 | C20: 512000 | D20: ="Flux de "&_xlfn.SINGLE( _xlfn.XLOOKUP($K$4,L:L,M:M,FALSE)) -> Flux de Septembre | F20: =E19 -> 698818.56 | G20: BQ
B21: =+B20 -> 46293 | C21: 601400 | D21: ="Flux de "&_xlfn.SINGLE( _xlfn.XLOOKUP($K$4,L:L,M:M,FALSE)) -> Flux de Septembre | E21: 0 | G21: BQ
B22: =+B21 -> 46293 | C22: 512000 | D22: ="Flux de "&_xlfn.SINGLE( _xlfn.XLOOKUP($K$4,L:L,M:M,FALSE)) -> Flux de Septembre | F22: 0 | G22: BQ
B23: =+B22 -> 46293 | C23: 161200 | D23: ="Flux de "&_xlfn.SINGLE( _xlfn.XLOOKUP($K$4,L:L,M:M,FALSE)) -> Flux de Septembre | E23: =ROUNDDOWN('11 - Notes Follow-up'!V25,2) -> 4271551.7 | G23: BQ
B24: =+B23 -> 46293 | C24: 512000 | D24: ="Flux de "&_xlfn.SINGLE( _xlfn.XLOOKUP($K$4,L:L,M:M,FALSE)) -> Flux de Septembre | F24: =E23 -> 4271551.7 | G24: BQ
B25: =+B24 -> 46293 | C25: 601100 | D25: ="Flux de "&_xlfn.SINGLE( _xlfn.XLOOKUP($K$4,L:L,M:M,FALSE)) -> Flux de Septembre | E25: =ROUNDDOWN('12 - Notes Interest'!K17,2) -> 3368904.9 | G25: BQ
B26: =+B25 -> 46293 | C26: 512000 | D26: ="Flux de "&_xlfn.SINGLE( _xlfn.XLOOKUP($K$4,L:L,M:M,FALSE)) -> Flux de Septembre | F26: =E25 -> 3368904.9 | G26: BQ
B27: =+B26 -> 46293 | C27: 161100 | D27: ="Flux de "&_xlfn.SINGLE( _xlfn.XLOOKUP($K$4,L:L,M:M,FALSE)) -> Flux de Septembre | E27: =ROUNDDOWN('11 - Notes Follow-up'!F25,2) -> 51485790 | G27: BQ
B28: =+B27 -> 46293 | C28: 512000 | D28: ="Flux de "&_xlfn.SINGLE( _xlfn.XLOOKUP($K$4,L:L,M:M,FALSE)) -> Flux de Septembre | F28: =E27 -> 51485790 | G28: BQ
B29: =+B28 -> 46293 | C29: 512100 | D29: ="Flux de "&_xlfn.SINGLE( _xlfn.XLOOKUP($K$4,L:L,M:M,FALSE)) -> Flux de Septembre | F29: =ROUNDDOWN(-'10 - Reserve calculation'!K12,2) -> 410000 | G29: BQ2
B30: =+B29 -> 46293 | C30: 450000 | D30: ="Flux de "&_xlfn.SINGLE( _xlfn.XLOOKUP($K$4,L:L,M:M,FALSE)) -> Flux de Septembre | E30: =F29 -> 410000 | G30: BQ2
B31: =+B30 -> 46293 | C31: 410000 | D31: ="Flux de "&_xlfn.SINGLE( _xlfn.XLOOKUP($K$4,L:L,M:M,FALSE)) -> Flux de Septembre | E31: =ROUNDDOWN('03 - Monthly Collection'!Q13+'03 - Monthly Collection'!AB13+'03 - Monthly Collection'!AC13,2) -> 14998292 | G31: OD
B32: =+B31 -> 46293 | C32: 701000 | D32: ="Flux de "&_xlfn.SINGLE( _xlfn.XLOOKUP($K$4,L:L,M:M,FALSE)) -> Flux de Septembre | F32: =E31 -> 14998292 | G32: OD
B33: =+B32 -> 46293 | C33: 410000 | D33: ="Flux de "&_xlfn.SINGLE( _xlfn.XLOOKUP($K$4,L:L,M:M,FALSE)) -> Flux de Septembre | E33: =F34+F36-E35 -> 85452477 | G33: OD
B34: =+B33 -> 46293 | C34: 242000 | D34: ="Flux de "&_xlfn.SINGLE( _xlfn.XLOOKUP($K$4,L:L,M:M,FALSE)) -> Flux de Septembre | F34: =('02 - Monthly Asset Follow up'!BL18-'02 - Monthly Asset Follow up'!BL17+'02 - Monthly Asset Follow up'!CS18-'02 - Monthly Asset Follow up'!CS17) -> -14130.95 | G34: OD
B35: =+B34 -> 46293 | C35: 241500 | D35: ="Flux de "&_xlfn.SINGLE( _xlfn.XLOOKUP($K$4,L:L,M:M,FALSE)) -> Flux de Septembre | E35: =('02 - Monthly Asset Follow up'!AQ17-'02 - Monthly Asset Follow up'!AQ18) -> -35595.03 | G35: OD
B36: =+B35 -> 46293 | C36: 241000 | D36: ="Flux de "&_xlfn.SINGLE( _xlfn.XLOOKUP($K$4,L:L,M:M,FALSE)) -> Flux de Septembre | F36: =('02 - Monthly Asset Follow up'!O18-'02 - Monthly Asset Follow up'!O17) -> 85431013 | G36: OD
B37: =+B36 -> 46293 | C37: 681000 | D37: Ajustement Prov Defaut | E37: =+'02 - Monthly Asset Follow up'!BM17+'02 - Monthly Asset Follow up'!CP17-'02 - Monthly Asset Follow up'!CP18-'02 - Monthly Asset Follow up'!BL18 -> 14130.95 | G37: OD
B38: =+B37 -> 46293 | C38: 249000 | D38: Ajustement Prov Defaut | F38: =+E37 -> 14130.95 | G38: OD

Sheet 00 - Cover
C8: Red & Black Home Loans France 3
C11: LEI | F11: 9695000NVUKTJ495CJ05
C13: Closing Date / Purchase Date | F13: 45588
C15: Start of Collection Period | F15: =_xlfn.XLOOKUP(F16,Calendar!$E$23:$E$478,Calendar!$D$23:$D$478) -> 46235
C16: End of Collection Period | F16: =INPUT_DATA!A4 -> 46265
C17: Cut-Off Date | F17: =INPUT_DATA!A4 -> 46265
C18: Information Date | F18: =_xlfn.XLOOKUP(F16,Calendar!$E$23:$E$478,Calendar!$G$23:$G$478) -> 46279
C19: Calculation Date | F19: =_xlfn.XLOOKUP(F16,Calendar!$E$23:$E$478,Calendar!$H$23:$H$478) -> 46286
C20: Payment Date | F20: =_xlfn.XLOOKUP(F16,Calendar!$E$23:$E$478,Calendar!$J$23:$J$478) -> 46293
C21: Next Payment Date | F21: =_xlfn.XLOOKUP(EOMONTH($F$15,1),Calendar!$E$23:$E$478,Calendar!$J$23:$J$478) -> 46322
C22: Preceding Payment Date | F22: =_xlfn.XLOOKUP(F15-1,Calendar!$E$23:$E$478,Calendar!$J$23:$J$478) -> 46261
C23: Issue Date | F23: 45588
C24: Liquidation Date
C29: Period number | F29: =_xlfn.XLOOKUP(F17,Calendar!$F$23:$F$478,Calendar!$B$23:$B$478) -> 23
C30: Issue Date | F30: No
C32: Amortisation Period | F32: Yes
C33: Accelerated Amortisation Period | F33: No
C36: Table of contents:
C46: Parties
C47: IQ EQ Management | F47: Management Company
C48: Société Générale | F48: Servicer
C49: Société Générale Securities Services | F49: Custodian
C50: Société Générale Securities Services | F50: Paying Agent
C51: Société Générale | F51: Account Bank
C52: Société Générale Securities Services | F52: Data Protection Agent
C53: Société Générale | F53: Class A Noteholders
C54: Société Générale | F54: Class B Noteholders
C55: Société Générale | F55: Unitholder
C58: Contacts
C59: Email Address | D59: : | E59: FCT_RedandBlackSG@iqeq.com
C60: Contacts | D60: : | E60: Dimitri Bellaiche
E61: dimitri.bellaiche@iqeq.com
E62: Jonathan Drouet - Gérant
E63: jonathan.drouet@iqeq.com
E64: Omar Ghannam - Gérant | F64: Omar Ghannam - Gérant
E65: omar.ghannam@iqeq.com | F65: omar.ghannam@iqeq.com
E66: Nicolas Houot - Gérant
E67: nicolas.Houot@iqeq.com

Sheet 01 - Eligibility Criteria
J4: Calculation Date | K4: ='00 - Cover'!F19 -> 46286
J5: Payment Date | K5: ='00 - Cover'!F20 -> 46293
A9: 02- Eligibility Criteria
B12: Closing Date | H12: 45957 | L12: 45583
H13: Home Loans Receivables Amount | I13: Number of Home Loans Receivables | L13: Home Loans Receivables Amount | M13: Number of Home Loans Receivables
B14: All Home Loans | H14: 4.2463263e+09 | I14: 21828 | L14: 8.1823685e+09 | M14: 56971
B15: Rejected Home Loans | H15: =SUM(J23:J26,J30:J38,J41:J42,J45:J46) -> 0 | I15: =SUM(K23:K26,K30:K38,K41:K42,K45:K46) -> 0 | L15: =SUM(N23:N26,N30:N38,N41:N42,N45:N46) -> 0 | M15: =SUM(O23:O26,O30:O38,O41:O42,O45:O46) -> 0
B16: Eligible Home Loans | H16: =H46-H15 -> 4.2463263e+09 | I16: =I46-I15 -> 21828 | L16: =L46-L15 -> 8.1823685e+09 | M16: =M46-M15 -> 56971
B17: Check | H17: =IF(H14-H15=H16,"OK","KO") -> OK | I17: =IF(I14-I15=I16,"OK","KO") -> OK | L17: =IF(L14-L15=L16,"OK","KO") -> OK | M17: =IF(M14-M15=M16,"OK","KO") -> OK
B18: Eligibility Criteria of the Home Loan Agreements | H18: Home Loans Amount which comply the criteria | I18: Number of Home Loans comply the criteria | J18: Home Loans Amount which not comply the criteria | K18: Number of Home Loans not comply the criteria | L18: Home Loans Amount which comply the criteria | M18: Number of Home Loans comply the criteria | N18: Home Loans Amount which not comply the criteria | O18: Number of Home Loans not comply the criteria
B19: 1 | C19: Each Home Loan Agreement has been executed between the Seller (or Crédit du Nord) and an Eligible Borrower pursuant to the applicable provisions of the Consumer Credit Legislation applicable to real estate loans (crédits immobiliers) and all other applicable legal and regulatory provisions.
B20: 2 | C20: Each Home Loan Agreement was executed within the framework of an offer of credit (within the meaning of article L.313-1 et seq. of the French Consumer Code).
B21: 3 | C21: No Home Loan Agreement contains legal flaws making it voidable, rescindable, or subject to legal termination.
B22: 4 | C22: The Home Loan Agreements were executed by the Seller (or Crédit du Nord) pursuant to (i) its usual procedures in respect of the underwriting of loans, (ii) within the scope of its normal or habitual credit activity and (iii) has been managed in accordance with his customary servicing procedure.
B23: 5 | C23: The Seller has not begun a rescission claim on any of the Home Loan Agreements for a breach by the Borrower(s) of its (their) obligations under the terms of such Home Loan Agreement including, amongst others things, with respect to the timely payment of the relevant Instalments. | H23: =H14-J23 -> 4.2463263e+09 | I23: =I14-K23 -> 21828 | J23: 0 | K23: 0 | L23: =L14-N23 -> 8.1823685e+09 | M23: =M14-O23 -> 56971 | N23: 0 | O23: 0
B24: 6 | C24: The purpose of the each Home Loan Agreement is either to (i) buy the underlying property, (ii) buy and renovate the underlying property, (iii) build the underlying property, (iv) finance the acquisition of the land and build the underlying property, (v) refinance the financing used by the Borrower for the purchase of the underlying property or (vi) finance a co-owner share in the underlying property. | H24: =H23-J24 -> 4.2463263e+09 | I24: =I23-K24 -> 21828 | J24: 0 | K24: 0 | L24: =L23-N24 -> 8.1823685e+09 | M24: =M23-O24 -> 56971 | N24: 0 | O24: 0
B25: 7 | C25: No Home Loan Agreement has been accelerated or declared due and payable. | H25: =H24-J25 -> 4.2463263e+09 | I25: =I24-K25 -> 21828 | J25: 0 | K25: 0 | L25: =L24-N25 -> 8.1823685e+09 | M25: =M24-O25 -> 56971 | N25: 0 | O25: 0
B26: 8 | C26: No Home Loan Agreement has been originated before 1 January 2010 | H26: =H25-J26 -> 4.2463263e+09 | I26: =I25-K26 -> 21828 | J26: 0 | K26: 0 | L26: =L25-N26 -> 8.1823685e+09 | M26: =M25-O26 -> 56971 | N26: 0 | O26: 0
B27: 9 | C27: Each Home Loan Agreement is subject to French Law and any related claim is subject to the exclusive jurisdiction of the French competent courts.
B28: Eligibility Criteria of the Home Loan Receivables
B29: 1 | C29: (i) Each Home Loan Receivable exists and derives from a Home Loan Agreement which complies with the Eligibility Criteria set out in Clause ‎8.2(b) and which has not been terminated
B30: 2 | C30: The interest rate applicable to each Home Loan Receivable is fixed and is not lower than 0.5 per cent. | H30: =H26-J30 -> 4.2463263e+09 | I30: =I26-K30 -> 21828 | J30: 0 | K30: 0 | L30: =L26-N30 -> 8.1823685e+09 | M30: =M26-O30 -> 56971 | N30: 0 | O30: 0
B31: 3 | C31: Each Home Loan Receivable is denominated and payable in Euro. | H31: =H30-J31 -> 4.2463263e+09 | I31: =I30-K31 -> 21828 | J31: 0 | K31: 0 | L31: =L30-N31 -> 8.1823685e+09 | M31: =M30-O31 -> 56971 | N31: 0 | O31: 0
B32: 4 | C32: Each Home Loan Receivable has been entirely disbursed and any grace period (période de franchise) thereunder has expired. | H32: =H31-J32 -> 4.2463263e+09 | I32: =I31-K32 -> 21828 | J32: 0 | K32: 0 | L32: =L31-N32 -> 8.1823685e+09 | M32: =M31-O32 -> 56971 | N32: 0 | O32: 0
B33: 5 | C33: Each Home Loan Receivable is payable in arrears, in monthly instalments, subject to any right of the Borrower to request to temporarily suspend its payments. | H33: =H32-J33 -> 4.2463263e+09 | I33: =I32-K33 -> 21828 | J33: 0 | K33: 0 | L33: =L32-N33 -> 8.1823685e+09 | M33: =M32-O33 -> 56971 | N33: 0 | O33: 0
B34: 6 | C34: (vi) The Outstanding Principal Balance of each Home Loan Receivable is not less than EUR 1,000 and not more than EUR 2,500,000 | H34: =H33-J34 -> 4.2463263e+09 | I34: =I33-K34 -> 21828 | J34: 0 | K34: 0 | L34: =L33-N34 -> 8.1823685e+09 | M34: =M33-O34 -> 56971 | N34: 0 | O34: 0
B35: 7 | C35: Each Home Loan Receivable has already given rise to the effective and full payment of at least one (1) Instalment by the Borrower. | H35: =H34-J35 -> 4.2463263e+09 | I35: =I34-K35 -> 21828 | J35: 0 | K35: 0 | L35: =L34-N35 -> 8.1823685e+09 | M35: =M34-O35 -> 56971 | N35: 0 | O35: 0
B36: 8 | C36: Each Home Loan Receivable has a Last Instalment Due Date which does not fall after 1 November 2054. | H36: =H35-J36 -> 4.2463263e+09 | I36: =I35-K36 -> 21828 | J36: 0 | K36: 0 | L36: =L35-N36 -> 8.1823685e+09 | M36: =M35-O36 -> 56971 | N36: 0 | O36: 0
B37: 9 | C37: No Home Loan Receivable is a Delinquent Home Loan Receivable, a Defaulted Home Loan Receivable or is subject to legal proceedings. | H37: =H36-J37 -> 4.2463263e+09 | I37: =I36-K37 -> 21828 | J37: 0 | K37: 0 | L37: =L36-N37 -> 8.1823685e+09 | M37: =M36-O37 -> 56971 | N37: 0 | O37: 0
B38: 10 | C38: Each Home Loan Receivable has a remaining term which does not exceed 360 months. | H38: =H37-J38 -> 4.2463263e+09 | I38: =I37-K38 -> 21828 | J38: 0 | K38: 0 | L38: =L37-N38 -> 8.1823685e+09 | M38: =M37-O38 -> 56971 | N38: 0 | O38: 0
B39: 11 | C39: Each Home Loan Receivable and the Ancillary Rights are not subject, either totally or partially, to assignment, delegation or pledge, attachment claim, set off claims or encumbrance of whatever type which would constitute an impediment to the purported assignment.
B40: 12 | C40: Each Home Loan Receivable is free and clear of any right that could be exercised by third parties against the Seller or the Issuer.
B41: 13 | C41: Each Home Loan Receivable is individualised in the information systems of the Seller in such manner as to give the Management Company the means to individualise and identify such Purchased Home Loan Receivable at any time, on or after the Purchase Date. | H41: =H38-J41 -> 4.2463263e+09 | I41: =I38-K41 -> 21828 | J41: 0 | K41: 0 | L41: =L38-N41 -> 8.1823685e+09 | M41: =M38-O41 -> 56971 | N41: 0 | O41: 0
B42: 14 | C42: The underlying property is a residential property or a mixed-used property which is located in metropolitan France (France métropolitaine). | H42: =H41-J42 -> 4.2463263e+09 | I42: =I41-K42 -> 21828 | J42: 0 | K42: 0 | L42: =L41-N42 -> 8.1823685e+09 | M42: =M41-O42 -> 56971 | N42: 0 | O42: 0
B43: 15 | C43: No Home Loan Receivable is a bridge loan (crédit relais).
B44: 16 | C44: No Home Loan Receivable is a regulated home loan (prêt immobilier réglementé).
B45: 17 | C45: No Home Loan Receivable is a bullet loan or a loan with prepaid interests. | H45: =H42-J45 -> 4.2463263e+09 | I45: =I42-K45 -> 21828 | J45: 0 | K45: 0 | L45: =L42-N45 -> 8.1823685e+09 | M45: =M42-O45 -> 56971 | N45: 0 | O45: 0
B46: 18 | C46: The original loan-to-value of each Home Loan Receivable does not exceed one hundred and twenty per cent. (120%). | H46: =H45-J46 -> 4.2463263e+09 | I46: =I45-K46 -> 21828 | J46: 0 | K46: 0 | L46: =L45-N46 -> 8.1823685e+09 | M46: =M45-O46 -> 56971 | N46: 0 | O46: 0
B47: 19 | C47: The amount of the Home Loan Eligible Security covers the outstanding amount of each Home Loan Receivable (subject to a tolerance of EUR 1).
B48: 20 | C48: No Home Loan Receivable includes transferable securities as defined in Article 4(1), point (44) of Directive 2014/65/EU of the European Parliament and of the Council, any securitisation position or any derivative.
...

Sheet 02 - Monthly Asset Follow up
P3: Cut-Off Date | Q3: ='00 - Cover'!$F$17 -> 46265
P4: Calculation Date | Q4: ='00 - Cover'!$F$19 -> 46286
P5: Payment Date | Q5: ='00 - Cover'!$F$20 -> 46293
B8: 02 - Asset Follow Up (Euros)
J10: ='02 - Monthly Asset Follow up'!M17+'02 - Monthly Asset Follow up'!BJ17+INPUT_DATA!BN4+INPUT_DATA!BN5-'04 - Repurchased Receivables'!AO13+'02 - Monthly Asset Follow up'!AK17+'02 - Monthly Asset Follow up'!AL17+'02 - Monthly Asset Follow up'!AM17+'02 - Monthly Asset Follow up'!CJ17+'02 - Monthly Asset Follow up'!CK17+'02 - Monthly Asset Follow up'!CL17 -> 2929832.1 | P10: =P17+M17+AQ17+BJ17+BL17+CP17 -> 1.054749e+10 | BJ10: 413299.32
M11: =P18-P17 -> 85431013 | P11: =P17+AQ17+BL17+CP17 -> 1.0544348e+10 | Q11: =M17+AK17+BJ17+CJ17+CK17+AL17 -> 3167094.5 | R11: =Q11-'04 - Repurchased Receivables'!AT13 -> 0
C12: PERFORMING | BA12: DEFAULTED
C13: Principal Outstanding balance | S13: Unpaid Balance | BA13: Principal Outstanding balance | BO13: Unpaid Balance
B14: Monthly Cut-Off Date | C14: Opening Outstanding Balance (Loan Receivables) | D14: New Receivables Amount | E14: Principal Instalments amount | F14: Prepayments | G14: Recapitalization into the principal outstanding balance | J14: Principal losses amount | K14: Principal balance of receivables becoming Defaulted | L14: Principal balance of receivables becoming Accelerated | M14: Outstanding Balances of the Home Loans re-transferred by the Issuer to any Seller | N14: Outstanding Balances of the Affected Home Loans | O14: Closing Outstanding Balances (Calculated) | P14: Closing Outstanding Balances (Declared) | Q14: GAP | R14: Accrued interest not yet due | S14: Opening unpaid balance | V14: New unpaid | Y14: Collections | AB14: Recapitalization into the Principal Outstanding Balance of The Home Loans | AE14: Losses Amount | AH14: Unpaid Balance becoming Defauted | AK14: Re-transferred Amount | AN14: Rescission Amount | AQ14: Closing unpaid balance (Calculated) | AT14: Closing unpaid balance (Declared) | AW14: GAP | BA14: Opening Outstanding Balance (Loan Receivables) | BB14: Principal Instalments amount | BC14: Prepayments | BD14: Recapitalization into the principal outstanding balance | BG14: Principal losses amount | BH14: Principal balance of receivables becoming Defaulted | BI14: Principal balance of receivables becoming Accelerated | BJ14: Outstanding Balances of the Home Loans re-transferred by the Issuer to any Seller | BK14: Outstanding Balances of the Affected Home Loans | BL14: Closing Outstanding Balances (Calculated) | BM14: Closing Outstanding Balances (Declared) | BN14: GAP | BO14: Opening unpaid balance | BR14: New unpaid | BU14: Collections | BX14: Recapitalization into the Principal 0utstanding Balance of The Home Loans | CA14: Losses Amount | CD14: Unpaid Balance becoming Defaulted | CG14: Unpaid Balance becoming Accelerated | CJ14: Re-transferred Amount | CM14: Rescission Amount | CP14: Closing unpaid balance (Calculated) | CS14: Closing unpaid balance (Declared) | CV14: GAP
G15: Miscellaneous but arrears | H15: Interests arrears | I15: Other arrears | S15: Principal | T15: Interest | U15: Others | V15: Principal | W15: Interest | X15: Others | Y15: Principal | Z15: Interest | AA15: Others | AB15: Principal | AC15: Interest | AD15: Others | AE15: Principal | AF15: Interest | AG15: Others | AH15: Principal | AI15: Interest | AJ15: Others | AK15: Principal | AL15: Interest | AM15: Others | AN15: Principal | AO15: Interest | AP15: Others | AQ15: Principal | AR15: Interest | AS15: Others | AT15: Principal | AU15: Interest | AV15: Others | AW15: Principal | AX15: Interest | AY15: Others | BD15: Miscellaneous but arrears | BE15: Interests arrears | BF15: Other arrears | BO15: Principal | BP15: Interest | BQ15: Others | BR15: Principal | BS15: Interest | BT15: Others | BU15: Principal | BV15: Interest | BW15: Others | BX15: Principal | BY15: Interest | BZ15: Others | CA15: Principal | CB15: Interest | CC15: Others | CD15: Principal | CE15: Interest | CF15: Others | CG15: Principal | CH15: Interest | CI15: Others | CJ15: Principal | CK15: Interest | CL15: Others | CM15: Principal | CN15: Interest | CO15: Others | CP15: Principal | CQ15: Interest | CR15: Others | CS15: Principal | CT15: Interest | CU15: Others | CV15: Principal | CW15: Interest | CX15: Others
B17: ='00 - Cover'!F16 -> 46265 | C17: =IF($B17=0,"",SUMIFS(INPUT_DATA!C:C,INPUT_DATA!$A:$A,$B17,INPUT_DATA!$B:$B,"S")) -> 1.0627881e+10 | D17: =IF($B17=0,"",SUMIFS(INPUT_DATA!D:D,INPUT_DATA!$A:$A,$B17,INPUT_DATA!$B:$B,"S")) -> 0 | E17: =IF($B17=0,"",SUMIFS(INPUT_DATA!E:E,INPUT_DATA!$A:$A,$B17,INPUT_DATA!$B:$B,"S")) -> 57131840 | F17: =IF($B17=0,"",SUMIFS(INPUT_DATA!F:F,INPUT_DATA!$A:$A,$B17,INPUT_DATA!$B:$B,"S")) -> 24671071 | G17: =IF($B17=0,"",SUMIFS(INPUT_DATA!G:G,INPUT_DATA!$A:$A,$B17,INPUT_DATA!$B:$B,"S")) -> 0 | H17: =IF($B17=0,"",SUMIFS(INPUT_DATA!H:H,INPUT_DATA!$A:$A,$B17,INPUT_DATA!$B:$B,"S")) -> 0 | I17: =IF($B17=0,"",SUMIFS(INPUT_DATA!I:I,INPUT_DATA!$A:$A,$B17,INPUT_DATA!$B:$B,"S")) -> 0 | J17: =IF($B17=0,"",SUMIFS(INPUT_DATA!J:J,INPUT_DATA!$A:$A,$B17,INPUT_DATA!$B:$B,"S")) -> 0 | K17: =IF($B17=0,"",SUMIFS(INPUT_DATA!K:K,INPUT_DATA!$A:$A,$B17,INPUT_DATA!$B:$B,"S")) -> 1173747.9 | L17: =IF($B17=0,"",SUMIFS(INPUT_DATA!L:L,INPUT_DATA!$A:$A,$B17,INPUT_DATA!$B:$B,"S")) -> 0 | M17: =IF($B17=0,"",SUMIFS(INPUT_DATA!M:M,INPUT_DATA!$A:$A,$B17,INPUT_DATA!$B:$B,"S")) -> 2454354.2 | N17: =IF($B17=0,"",SUMIFS(INPUT_DATA!N:N,INPUT_DATA!$A:$A,$B17,INPUT_DATA!$B:$B,"S")) -> 0 | O17: =IF($B17=0,"",C17+D17-E17-F17+G17+H17+I17-J17-K17-M17-N17-L17) -> 1.054245e+10 | P17: =IF($B17=0,"",SUMIFS(INPUT_DATA!O:O,INPUT_DATA!$A:$A,$B17,INPUT_DATA!$B:$B,"S")) -> 1.054245e+10 | Q17: =IF($B17=0,"",O17-P17) -> 1.9073486e-06 | R17: =IF($B17=0,"",SUMIFS(INPUT_DATA!BL:BL,INPUT_DATA!$A:$A,$B17,INPUT_DATA!$B:$B,"S")) -> 11750241 | S17: =IF($B17=0,"",SUMIFS(INPUT_DATA!P:P,INPUT_DATA!$A:$A,$B17,INPUT_DATA!$B:$B,"S")) -> 730783.24 | T17: =IF($B17=0,"",SUMIFS(INPUT_DATA!Q:Q,INPUT_DATA!$A:$A,$B17,INPUT_DATA!$B:$B,"S")) -> 150463.81 | U17: =IF($B17=0,"",SUMIFS(INPUT_DATA!R:R,INPUT_DATA!$A:$A,$B17,INPUT_DATA!$B:$B,"S")) -> 0 | V17: =IF($B17=0,"",SUMIFS(INPUT_DATA!S:S,INPUT_DATA!$A:$A,$B17,INPUT_DATA!$B:$B,"S")) -> 218991.74 | W17: =IF($B17=0,"",SUMIFS(INPUT_DATA!T:T,INPUT_DATA!$A:$A,$B17,INPUT_DATA!$B:$B,"S")) -> 55289.46 | X17: =IF($B17=0,"",SUMIFS(INPUT_DATA!U:U,INPUT_DATA!$A:$A,$B17,INPUT_DATA!$B:$B,"S")) -> 0 | Y17: =IF($B17=0,"",SUMIFS(INPUT_DATA!V:V,INPUT_DATA!$A:$A,$B17,INPUT_DATA!$B:$B,"S")) -> 215273.51 | Z17: =IF($B17=0,"",SUMIFS(INPUT_DATA!W:W,INPUT_DATA!$A:$A,$B17,INPUT_DATA!$B:$B,"S")) -> 42557.34 | AA17: =IF($B17=0,"",SUMIFS(INPUT_DATA!X:X,INPUT_DATA!$A:$A,$B17,INPUT_DATA!$B:$B,"S")) -> 0 | AB17: =IF($B17=0,"",SUMIFS(INPUT_DATA!Y:Y,INPUT_DATA!$A:$A,$B17,INPUT_DATA!$B:$B,"S")) -> 0 | AC17: =IF($B17=0,"",SUMIFS(INPUT_DATA!Z:Z,INPUT_DATA!$A:$A,$B17,INPUT_DATA!$B:$B,"S")) -> 0 | AD17: =IF($B17=0,"",SUMIFS(INPUT_DATA!AA:AA,INPUT_DATA!$A:$A,$B17,INPUT_DATA!$B:$B,"S")) -> 0 | AE17: =IF($B17=0,"",SUMIFS(INPUT_DATA!AB:AB,INPUT_DATA!$A:$A,$B17,INPUT_DATA!$B:$B,"S")) -> 0 | AF17: =IF($B17=0,"",SUMIFS(INPUT_DATA!AC:AC,INPUT_DATA!$A:$A,$B17,INPUT_DATA!$B:$B,"S")) -> 0 | AG17: =IF($B17=0,"",SUMIFS(INPUT_DATA!AD:AD,INPUT_DATA!$A:$A,$B17,INPUT_DATA!$B:$B,"S")) -> 0 | AH17: =IF($B17=0,"",SUMIFS(INPUT_DATA!AE:AE,INPUT_DATA!$A:$A,$B17,INPUT_DATA!$B:$B,"S")) -> 33394.2 | AI17: =IF($B17=0,"",SUMIFS(INPUT_DATA!AF:AF,INPUT_DATA!$A:$A,$B17,INPUT_DATA!$B:$B,"S")) -> 4784.77 | AJ17: =IF($B17=0,"",SUMIFS(INPUT_DATA!AG:AG,INPUT_DATA!$A:$A,$B17,INPUT_DATA!$B:$B,"S")) -> 0 | AK17: =IF($B17=0,"",SUMIFS(INPUT_DATA!AK:AK,INPUT_DATA!$A:$A,$B17,INPUT_DATA!$B:$B,"S")) -> 5919.06 | AL17: =IF($B17=0,"",SUMIFS(INPUT_DATA!AL:AL,INPUT_DATA!$A:$A,$B17,INPUT_DATA!$B:$B,"S")) -> 127.1 | AM17: =IF($B17=0,"",SUMIFS(INPUT_DATA!AM:AM,INPUT_DATA!$A:$A,$B17,INPUT_DATA!$B:$B,"S")) -> 0 | AN17: =IF($B17=0,"",SUMIFS(INPUT_DATA!AN:AN,INPUT_DATA!$A:$A,$B17,INPUT_DATA!$B:$B,"S")) -> 0 | AO17: =IF($B17=0,"",SUMIFS(INPUT_DATA!AO:AO,INPUT_DATA!$A:$A,$B17,INPUT_DATA!$B:$B,"S")) -> 0 | AP17: =IF($B17=0,"",SUMIFS(INPUT_DATA!AP:AP,INPUT_DATA!$A:$A,$B17,INPUT_DATA!$B:$B,"S")) -> 0 | AQ17: =IF($B17=0,"",S17+V17-Y17-AB17-AE17-AH17-AK17-AN17) -> 695188.21 | AR17: =IF($B17=0,"",T17+W17-Z17-AC17-AF17-AI17-AL17-AO17) -> 158284.06 | AS17: =IF($B17=0,"",U17+X17-AA17-AD17-AG17-AJ17-AM17-AP17) -> 0 | AT17: =IF($B17=0,"",SUMIFS(INPUT_DATA!AQ:AQ,INPUT_DATA!$A:$A,$B17,INPUT_DATA!$B:$B,"S")) -> 695188.21 | AU17: =IF($B17=0,"",SUMIFS(INPUT_DATA!AR:AR,INPUT_DATA!$A:$A,$B17,INPUT_DATA!$B:$B,"S")) -> 158284.06 | AV17: =IF($B17=0,"",SUMIFS(INPUT_DATA!AS:AS,INPUT_DATA!$A:$A,$B17,INPUT_DATA!$B:$B,"S")) -> 0 | AW17: =IF($B17=0,"",AQ17-AT17) -> 0 | AX17: =IF($B17=0,"",AR17-AU17) -> 0 | AY17: =IF($B17=0,"",AS17-AV17) -> 0 | BA17: =IF($B17=0,"",SUMIFS(INPUT_DATA!C:C,INPUT_DATA!$A:$A,$B17,INPUT_DATA!$B:$B,"D")) -> 689410.54 | BB17: =IF($B17=0,"",SUMIFS(INPUT_DATA!E:E,INPUT_DATA!$A:$A,$B17,INPUT_DATA!$B:$B,"D")) -> 151671.11 | BC17: =IF($B17=0,"",SUMIFS(INPUT_DATA!F:F,INPUT_DATA!$A:$A,$B17,INPUT_DATA!$B:$B,"D")) -> 0 | BD17: =IF($B17=0,"",SUMIFS(INPUT_DATA!G:G,INPUT_DATA!$A:$A,$B17,INPUT_DATA!$B:$B,"D")) -> 0 | BE17: =IF($B17=0,"",SUMIFS(INPUT_DATA!H:H,INPUT_DATA!$A:$A,$B17,INPUT_DATA!$B:$B,"D")) -> 0 | BF17: =IF($B17=0,"",SUMIFS(INPUT_DATA!I:I,INPUT_DATA!$A:$A,$B17,INPUT_DATA!$B:$B,"D")) -> 0 | BG17: =IF($B17=0,"",SUMIFS(INPUT_DATA!J:J,INPUT_DATA!$A:$A,$B17,INPUT_DATA!$B:$B,"D")) -> 0 | BH17: =IF($B17=0,"",SUMIFS(INPUT_DATA!K:K,INPUT_DATA!$A:$A,$B17,INPUT_DATA!$B:$B,"D")) -> 1173747.9 | BI17: =IF($B17=0,"",SUMIFS(INPUT_DATA!L:L,INPUT_DATA!$A:$A,$B17,INPUT_DATA!$B:$B,"D")) -> 0 | BJ17: =IF($B17=0,"",SUMIFS(INPUT_DATA!M:M,INPUT_DATA!$A:$A,$B17,INPUT_DATA!$B:$B,"D")) -> 687200.85 | BK17: =IF($B17=0,"",SUMIFS(INPUT_DATA!N:N,INPUT_DATA!$A:$A,$B17,INPUT_DATA!$B:$B,"D")) -> 0 | BL17: =IF($B17=0,"",BA17-BB17-BC17+BD17+BE17+BF17-BG17+BH17-BJ17-BK17) -> 1024286.5 | BM17: =IF($B17=0,"",SUMIFS(INPUT_DATA!O:O,INPUT_DATA!$A:$A,$B17,INPUT_DATA!$B:$B,"D")) -> 1024286.5 | BN17: =IF($B17=0,"",BL17-BM17) -> -1.1641532e-10 | BO17: =IF($B17=0,"",SUMIFS(INPUT_DATA!P:P,INPUT_DATA!$A:$A,$B17,INPUT_DATA!$B:$B,"D")) -> 499271.63 | BP17: =IF($B17=0,"",SUMIFS(INPUT_DATA!Q:Q,INPUT_DATA!$A:$A,$B17,INPUT_DATA!$B:$B,"D")) -> 8071.44 | BQ17: =IF($B17=0,"",SUMIFS(INPUT_DATA!R:R,INPUT_DATA!$A:$A,$B17,INPUT_DATA!$B:$B,"D")) -> 0 | BR17: =IF($B17=0,"",SUMIFS(INPUT_DATA!S:S,INPUT_DATA!$A:$A,$B17,INPUT_DATA!$B:$B,"D")) -> 148069.62 | BS17: =IF($B17=0,"",SUMIFS(INPUT_DATA!T:T,INPUT_DATA!$A:$A,$B17,INPUT_DATA!$B:$B,"D")) -> 930.13 | BT17: =IF($B17=0,"",SUMIFS(INPUT_DATA!U:U,INPUT_DATA!$A:$A,$B17,INPUT_DATA!$B:$B,"D")) -> 0 | BU17: =IF($B17=0,"",SUMIFS(INPUT_DATA!V:V,INPUT_DATA!$A:$A,$B17,INPUT_DATA!$B:$B,"D")) -> 487158.23 | BV17: =IF($B17=0,"",SUMIFS(INPUT_DATA!W:W,INPUT_DATA!$A:$A,$B17,INPUT_DATA!$B:$B,"D")) -> 3098.08 | BW17: =IF($B17=0,"",SUMIFS(INPUT_DATA!X:X,INPUT_DATA!$A:$A,$B17,INPUT_DATA!$B:$B,"D")) -> 0 | BX17: =IF($B17=0,"",SUMIFS(INPUT_DATA!Y:Y,INPUT_DATA!$A:$A,$B17,INPUT_DATA!$B:$B,"D")) -> 0 | BY17: =IF($B17=0,"",SUMIFS(INPUT_DATA!Z:Z,INPUT_DATA!$A:$A,$B17,INPUT_DATA!$B:$B,"D")) -> 0 | BZ17: =IF($B17=0,"",SUMIFS(INPUT_DATA!AA:AA,INPUT_DATA!$A:$A,$B17,INPUT_DATA!$B:$B,"D")) -> 0 | CA17: =IF($B17=0,"",SUMIFS(INPUT_DATA!AB:AB,INPUT_DATA!$A:$A,$B17,INPUT_DATA!$B:$B,"D")) -> 0 | CB17: =IF($B17=0,"",SUMIFS(INPUT_DATA!AC:AC,INPUT_DATA!$A:$A,$B17,INPUT_DATA!$B:$B,"D")) -> 0 | CC17: =IF($B17=0,"",SUMIFS(INPUT_DATA!AD:AD,INPUT_DATA!$A:$A,$B17,INPUT_DATA!$B:$B,"D")) -> 0 | CD17: =IF($B17=0,"",SUMIFS(INPUT_DATA!AE:AE,INPUT_DATA!$A:$A,$B17,INPUT_DATA!$B:$B,"D")) -> 33394.2 | CE17: =IF($B17=0,"",SUMIFS(INPUT_DATA!AF:AF,INPUT_DATA!$A:$A,$B17,INPUT_DATA!$B:$B,"D")) -> 4784.77 | CF17: =IF($B17=0,"",SUMIFS(INPUT_DATA!AG:AG,INPUT_DATA!$A:$A,$B17,INPUT_DATA!$B:$B,"D")) -> 0 | CG17: =IF($B17=0,"",SUMIFS(INPUT_DATA!AH:AH,INPUT_DATA!$A:$A,$B17,INPUT_DATA!$B:$B,"D")) -> 0 | CH17: =IF($B17=0,"",SUMIFS(INPUT_DATA!AI:AI,INPUT_DATA!$A:$A,$B17,INPUT_DATA!$B:$B,"D")) -> 0 | CI17: =IF($B17=0,"",SUMIFS(INPUT_DATA!AJ:AJ,INPUT_DATA!$A:$A,$B17,INPUT_DATA!$B:$B,"D")) -> 0 | CJ17: =IF($B17=0,"",SUMIFS(INPUT_DATA!AK:AK,INPUT_DATA!$A:$A,$B17,INPUT_DATA!$B:$B,"D")) -> 15050.63 | CK17: =IF($B17=0,"",SUMIFS(INPUT_DATA!AL:AL,INPUT_DATA!$A:$A,$B17,INPUT_DATA!$B:$B,"D")) -> 4442.62 | CL17: =IF($B17=0,"",SUMIFS(INPUT_DATA!AM:AM,INPUT_DATA!$A:$A,$B17,INPUT_DATA!$B:$B,"D")) -> 0 | CM17: =IF($B17=0,"",SUMIFS(INPUT_DATA!AN:AN,INPUT_DATA!$A:$A,$B17,INPUT_DATA!$B:$B,"D")) -> 0 | CN17: =IF($B17=0,"",SUMIFS(INPUT_DATA!AO:AO,INPUT_DATA!$A:$A,$B17,INPUT_DATA!$B:$B,"D")) -> 0 | CO17: =IF($B17=0,"",SUMIFS(INPUT_DATA!AP:AP,INPUT_DATA!$A:$A,$B17,INPUT_DATA!$B:$B,"D")) -> 0 | CP17: =IF($B17=0,"",BO17+BR17-BU17-BX17-CA17+CD17-CJ17-CM17+CG17) -> 178526.59 | CQ17: =IF($B17=0,"",BP17+BS17-BV17-BY17-CB17+CE17-CK17-CN17+CH17) -> 6245.64 | CR17: =IF($B17=0,"",BQ17+BT17-BW17-BZ17-CC17+CF17-CL17-CO17+CI17) -> 0 | CS17: =IF($B17=0,"",SUMIFS(INPUT_DATA!AQ:AQ,INPUT_DATA!$A:$A,$B17,INPUT_DATA!$B:$B,"D")) -> 178526.59 | CT17: =IF($B17=0,"",SUMIFS(INPUT_DATA!AR:AR,INPUT_DATA!$A:$A,$B17,INPUT_DATA!$B:$B,"D")) -> 6245.64 | CU17: =IF($B17=0,"",SUMIFS(INPUT_DATA!AS:AS,INPUT_DATA!$A:$A,$B17,INPUT_DATA!$B:$B,"D")) -> 0 | CV17: =IF($B17=0,"",CP17-CS17) -> 2.910383e-11 | CW17: =IF($B17=0,"",CQ17-CT17) -> 0 | CX17: =IF($B17=0,"",CR17-CU17) -> 0
B18: =INPUT_DATA!CR5 -> 46234 | C18: =IF($B18=0,"",SUMIFS(INPUT_DATA!C:C,INPUT_DATA!$A:$A,$B18,INPUT_DATA!$B:$B,"S")) -> 1.073141e+10 | D18: =IF($B18=0,"",SUMIFS(INPUT_DATA!D:D,INPUT_DATA!$A:$A,$B18,INPUT_DATA!$B:$B,"S")) -> 0 | E18: =IF($B18=0,"",SUMIFS(INPUT_DATA!E:E,INPUT_DATA!$A:$A,$B18,INPUT_DATA!$B:$B,"S")) -> 57503357 | F18: =IF($B18=0,"",SUMIFS(INPUT_DATA!F:F,INPUT_DATA!$A:$A,$B18,INPUT_DATA!$B:$B,"S")) -> 38053833 | G18: =IF($B18=0,"",SUMIFS(INPUT_DATA!G:G,INPUT_DATA!$A:$A,$B18,INPUT_DATA!$B:$B,"S")) -> 0 | H18: =IF($B18=0,"",SUMIFS(INPUT_DATA!H:H,INPUT_DATA!$A:$A,$B18,INPUT_DATA!$B:$B,"S")) -> 0 | I18: =IF($B18=0,"",SUMIFS(INPUT_DATA!I:I,INPUT_DATA!$A:$A,$B18,INPUT_DATA!$B:$B,"S")) -> 0 | J18: =IF($B18=0,"",SUMIFS(INPUT_DATA!J:J,INPUT_DATA!$A:$A,$B18,INPUT_DATA!$B:$B,"S")) -> 0 | K18: =IF($B18=0,"",SUMIFS(INPUT_DATA!K:K,INPUT_DATA!$A:$A,$B18,INPUT_DATA!$B:$B,"S")) -> 1165783.6 | L18: =IF($B18=0,"",SUMIFS(INPUT_DATA!L:L,INPUT_DATA!$A:$A,$B18,INPUT_DATA!$B:$B,"S")) -> 0 | M18: =IF($B18=0,"",SUMIFS(INPUT_DATA!M:M,INPUT_DATA!$A:$A,$B18,INPUT_DATA!$B:$B,"S")) -> 6668772.8 | N18: =IF($B18=0,"",SUMIFS(INPUT_DATA!N:N,INPUT_DATA!$A:$A,$B18,INPUT_DATA!$B:$B,"S")) -> 136951.16 | O18: =IF($B18=0,"",C18+D18-E18-F18+G18+H18+I18-J18-K18-M18-N18-L18) -> 1.0627881e+10 | P18: =IF($B18=0,"",SUMIFS(INPUT_DATA!O:O,INPUT_DATA!$A:$A,$B18,INPUT_DATA!$B:$B,"S")) -> 1.0627881e+10 | Q18: =IF($B18=0,"",O18-P18) -> 0 | R18: =IF($B18=0,"",SUMIFS(INPUT_DATA!BL:BL,INPUT_DATA!$A:$A,$B18,INPUT_DATA!$B:$B,"S")) -> 11258.03 | S18: =IF($B18=0,"",SUMIFS(INPUT_DATA!P:P,INPUT_DATA!$A:$A,$B18,INPUT_DATA!$B:$B,"S")) -> 755787.33 | T18: =IF($B18=0,"",SUMIFS(INPUT_DATA!Q:Q,INPUT_DATA!$A:$A,$B18,INPUT_DATA!$B:$B,"S")) -> 164249.82 | U18: =IF($B18=0,"",SUMIFS(INPUT_DATA!R:R,INPUT_DATA!$A:$A,$B18,INPUT_DATA!$B:$B,"S")) -> 0 | V18: =IF($B18=0,"",SUMIFS(INPUT_DATA!S:S,INPUT_DATA!$A:$A,$B18,INPUT_DATA!$B:$B,"S")) -> 222999.95 | W18: =IF($B18=0,"",SUMIFS(INPUT_DATA!T:T,INPUT_DATA!$A:$A,$B18,INPUT_DATA!$B:$B,"S")) -> 49149.88 | X18: =IF($B18=0,"",SUMIFS(INPUT_DATA!U:U,INPUT_DATA!$A:$A,$B18,INPUT_DATA!$B:$B,"S")) -> 0 | Y18: =IF($B18=0,"",SUMIFS(INPUT_DATA!V:V,INPUT_DATA!$A:$A,$B18,INPUT_DATA!$B:$B,"S")) -> 208042.44 | Z18: =IF($B18=0,"",SUMIFS(INPUT_DATA!W:W,INPUT_DATA!$A:$A,$B18,INPUT_DATA!$B:$B,"S")) -> 53091.33 | AA18: =IF($B18=0,"",SUMIFS(INPUT_DATA!X:X,INPUT_DATA!$A:$A,$B18,INPUT_DATA!$B:$B,"S")) -> 0 | AB18: =IF($B18=0,"",SUMIFS(INPUT_DATA!Y:Y,INPUT_DATA!$A:$A,$B18,INPUT_DATA!$B:$B,"S")) -> 0 | AC18: =IF($B18=0,"",SUMIFS(INPUT_DATA!Z:Z,INPUT_DATA!$A:$A,$B18,INPUT_DATA!$B:$B,"S")) -> 0 | AD18: =IF($B18=0,"",SUMIFS(INPUT_DATA!AA:AA,INPUT_DATA!$A:$A,$B18,INPUT_DATA!$B:$B,"S")) -> 0 | AE18: =IF($B18=0,"",SUMIFS(INPUT_DATA!AB:AB,INPUT_DATA!$A:$A,$B18,INPUT_DATA!$B:$B,"S")) -> 0 | AF18: =IF($B18=0,"",SUMIFS(INPUT_DATA!AC:AC,INPUT_DATA!$A:$A,$B18,INPUT_DATA!$B:$B,"S")) -> 0 | AG18: =IF($B18=0,"",SUMIFS(INPUT_DATA!AD:AD,INPUT_DATA!$A:$A,$B18,INPUT_DATA!$B:$B,"S")) -> 0 | AH18: =IF($B18=0,"",SUMIFS(INPUT_DATA!AE:AE,INPUT_DATA!$A:$A,$B18,INPUT_DATA!$B:$B,"S")) -> 37612.91 | AI18: =IF($B18=0,"",SUMIFS(INPUT_DATA!AF:AF,INPUT_DATA!$A:$A,$B18,INPUT_DATA!$B:$B,"S")) -> 9513.95 | AJ18: =IF($B18=0,"",SUMIFS(INPUT_DATA!AG:AG,INPUT_DATA!$A:$A,$B18,INPUT_DATA!$B:$B,"S")) -> 0 | AK18: =IF($B18=0,"",SUMIFS(INPUT_DATA!AK:AK,INPUT_DATA!$A:$A,$B18,INPUT_DATA!$B:$B,"S")) -> 2348.69 | AL18: =IF($B18=0,"",SUMIFS(INPUT_DATA!AL:AL,INPUT_DATA!$A:$A,$B18,INPUT_DATA!$B:$B,"S")) -> 330.61 | AM18: =IF($B18=0,"",SUMIFS(INPUT_DATA!AM:AM,INPUT_DATA!$A:$A,$B18,INPUT_DATA!$B:$B,"S")) -> 0 | AN18: =IF($B18=0,"",SUMIFS(INPUT_DATA!AN:AN,INPUT_DATA!$A:$A,$B18,INPUT_DATA!$B:$B,"S")) -> 0 | AO18: =IF($B18=0,"",SUMIFS(INPUT_DATA!AO:AO,INPUT_DATA!$A:$A,$B18,INPUT_DATA!$B:$B,"S")) -> 0 | AP18: =IF($B18=0,"",SUMIFS(INPUT_DATA!AP:AP,INPUT_DATA!$A:$A,$B18,INPUT_DATA!$B:$B,"S")) -> 0 | AQ18: =IF($B18=0,"",S18+V18-Y18-AB18-AE18-AH18-AK18-AN18) -> 730783.24 | AR18: =IF($B18=0,"",T18+W18-Z18-AC18-AF18-AI18-AL18-AO18) -> 150463.81 | AS18: =IF($B18=0,"",U18+X18-AA18-AD18-AG18-AJ18-AM18-AP18) -> 0 | AT18: =IF($B18=0,"",SUMIFS(INPUT_DATA!AQ:AQ,INPUT_DATA!$A:$A,$B18,INPUT_DATA!$B:$B,"S")) -> 730783.24 | AU18: =IF($B18=0,"",SUMIFS(INPUT_DATA!AR:AR,INPUT_DATA!$A:$A,$B18,INPUT_DATA!$B:$B,"S")) -> 150463.81 | AV18: =IF($B18=0,"",SUMIFS(INPUT_DATA!AS:AS,INPUT_DATA!$A:$A,$B18,INPUT_DATA!$B:$B,"S")) -> 0 | AW18: =IF($B18=0,"",AQ18-AT18) -> 1.1641532e-10 | AX18: =IF($B18=0,"",AR18-AU18) -> 0 | AY18: =IF($B18=0,"",AS18-AV18) -> 0 | BA18: =IF($B18=0,"",SUMIFS(INPUT_DATA!C:C,INPUT_DATA!$A:$A,$B18,INPUT_DATA!$B:$B,"D")) -> 751161.99 | BB18: =IF($B18=0,"",SUMIFS(INPUT_DATA!E:E,INPUT_DATA!$A:$A,$B18,INPUT_DATA!$B:$B,"D")) -> 476966.13 | BC18: =IF($B18=0,"",SUMIFS(INPUT_DATA!F:F,INPUT_DATA!$A:$A,$B18,INPUT_DATA!$B:$B,"D")) -> 0 | BD18: =IF($B18=0,"",SUMIFS(INPUT_DATA!G:G,INPUT_DATA!$A:$A,$B18,INPUT_DATA!$B:$B,"D")) -> 0 | BE18: =IF($B18=0,"",SUMIFS(INPUT_DATA!H:H,INPUT_DATA!$A:$A,$B18,INPUT_DATA!$B:$B,"D")) -> 0 | BF18: =IF($B18=0,"",SUMIFS(INPUT_DATA!I:I,INPUT_DATA!$A:$A,$B18,INPUT_DATA!$B:$B,"D")) -> 0 | BG18: =IF($B18=0,"",SUMIFS(INPUT_DATA!J:J,INPUT_DATA!$A:$A,$B18,INPUT_DATA!$B:$B,"D")) -> 0 | BH18: =IF($B18=0,"",SUMIFS(INPUT_DATA!K:K,INPUT_DATA!$A:$A,$B18,INPUT_DATA!$B:$B,"D")) -> 1165783.6 | BI18: =IF($B18=0,"",SUMIFS(INPUT_DATA!L:L,INPUT_DATA!$A:$A,$B18,INPUT_DATA!$B:$B,"D")) -> 0 | BJ18: =IF($B18=0,"",SUMIFS(INPUT_DATA!M:M,INPUT_DATA!$A:$A,$B18,INPUT_DATA!$B:$B,"D")) -> 750568.93 | BK18: =IF($B18=0,"",SUMIFS(INPUT_DATA!N:N,INPUT_DATA!$A:$A,$B18,INPUT_DATA!$B:$B,"D")) -> 0 | BL18: =IF($B18=0,"",AZ18+BA18-BB18-BC18+BD18+BE18+BF18-BG18+BH18-BJ18-BK18) -> 689410.54 | BM18: =IF($B18=0,"",SUMIFS(INPUT_DATA!O:O,INPUT_DATA!$A:$A,$B18,INPUT_DATA!$B:$B,"D")) -> 689410.54 | BN18: =IF($B18=0,"",BL18-BM18) -> 1.1641532e-10 | BO18: =IF($B18=0,"",SUMIFS(INPUT_DATA!P:P,INPUT_DATA!$A:$A,$B18,INPUT_DATA!$B:$B,"D")) -> 167034.37 | BP18: =IF($B18=0,"",SUMIFS(INPUT_DATA!Q:Q,INPUT_DATA!$A:$A,$B18,INPUT_DATA!$B:$B,"D")) -> 5520.75 | BQ18: =IF($B18=0,"",SUMIFS(INPUT_DATA!R:R,INPUT_DATA!$A:$A,$B18,INPUT_DATA!$B:$B,"D")) -> 0 | BR18: =IF($B18=0,"",SUMIFS(INPUT_DATA!S:S,INPUT_DATA!$A:$A,$B18,INPUT_DATA!$B:$B,"D")) -> 462247.3 | BS18: =IF($B18=0,"",SUMIFS(INPUT_DATA!T:T,INPUT_DATA!$A:$A,$B18,INPUT_DATA!$B:$B,"D")) -> 1080.67 | BT18: =IF($B18=0,"",SUMIFS(INPUT_DATA!U:U,INPUT_DATA!$A:$A,$B18,INPUT_DATA!$B:$B,"D")) -> 0 | BU18: =IF($B18=0,"",SUMIFS(INPUT_DATA!V:V,INPUT_DATA!$A:$A,$B18,INPUT_DATA!$B:$B,"D")) -> 20322.59 | BV18: =IF($B18=0,"",SUMIFS(INPUT_DATA!W:W,INPUT_DATA!$A:$A,$B18,INPUT_DATA!$B:$B,"D")) -> 3887.26 | BW18: =IF($B18=0,"",SUMIFS(INPUT_DATA!X:X,INPUT_DATA!$A:$A,$B18,INPUT_DATA!$B:$B,"D")) -> 0 | BX18: =IF($B18=0,"",SUMIFS(INPUT_DATA!Y:Y,INPUT_DATA!$A:$A,$B18,INPUT_DATA!$B:$B,"D")) -> 0 | BY18: =IF($B18=0,"",SUMIFS(INPUT_DATA!Z:Z,INPUT_DATA!$A:$A,$B18,INPUT_DATA!$B:$B,"D")) -> 0 | BZ18: =IF($B18=0,"",SUMIFS(INPUT_DATA!AA:AA,INPUT_DATA!$A:$A,$B18,INPUT_DATA!$B:$B,"D")) -> 0 | CA18: =IF($B18=0,"",SUMIFS(INPUT_DATA!AB:AB,INPUT_DATA!$A:$A,$B18,INPUT_DATA!$B:$B,"D")) -> 0 | CB18: =IF($B18=0,"",SUMIFS(INPUT_DATA!AC:AC,INPUT_DATA!$A:$A,$B18,INPUT_DATA!$B:$B,"D")) -> 0 | CC18: =IF($B18=0,"",SUMIFS(INPUT_DATA!AD:AD,INPUT_DATA!$A:$A,$B18,INPUT_DATA!$B:$B,"D")) -> 0 | CD18: =IF($B18=0,"",SUMIFS(INPUT_DATA!AE:AE,INPUT_DATA!$A:$A,$B18,INPUT_DATA!$B:$B,"D")) -> 37612.91 | CE18: =IF($B18=0,"",SUMIFS(INPUT_DATA!AF:AF,INPUT_DATA!$A:$A,$B18,INPUT_DATA!$B:$B,"D")) -> 9513.95 | CF18: =IF($B18=0,"",SUMIFS(INPUT_DATA!AG:AG,INPUT_DATA!$A:$A,$B18,INPUT_DATA!$B:$B,"D")) -> 0 | CG18: =IF($B18=0,"",SUMIFS(INPUT_DATA!AH:AH,INPUT_DATA!$A:$A,$B18,INPUT_DATA!$B:$B,"D")) -> 0 | CH18: =IF($B18=0,"",SUMIFS(INPUT_DATA!AI:AI,INPUT_DATA!$A:$A,$B18,INPUT_DATA!$B:$B,"D")) -> 0 | CI18: =IF($B18=0,"",SUMIFS(INPUT_DATA!AJ:AJ,INPUT_DATA!$A:$A,$B18,INPUT_DATA!$B:$B,"D")) -> 0 | CJ18: =IF($B18=0,"",SUMIFS(INPUT_DATA!AK:AK,INPUT_DATA!$A:$A,$B18,INPUT_DATA!$B:$B,"D")) -> 147300.36 | CK18: =IF($B18=0,"",SUMIFS(INPUT_DATA!AL:AL,INPUT_DATA!$A:$A,$B18,INPUT_DATA!$B:$B,"D")) -> 4156.67 | CL18: =IF($B18=0,"",SUMIFS(INPUT_DATA!AM:AM,INPUT_DATA!$A:$A,$B18,INPUT_DATA!$B:$B,"D")) -> 0 | CM18: =IF($B18=0,"",SUMIFS(INPUT_DATA!AN:AN,INPUT_DATA!$A:$A,$B18,INPUT_DATA!$B:$B,"D")) -> 0 | CN18: =IF($B18=0,"",SUMIFS(INPUT_DATA!AO:AO,INPUT_DATA!$A:$A,$B18,INPUT_DATA!$B:$B,"D")) -> 0 | CO18: =IF($B18=0,"",SUMIFS(INPUT_DATA!AP:AP,INPUT_DATA!$A:$A,$B18,INPUT_DATA!$B:$B,"D")) -> 0 | CP18: =IF($B18=0,"",BO18+BR18-BU18-BX18-CA18+CD18-CJ18-CM18+CG18) -> 499271.63 | CQ18: =IF($B18=0,"",BP18+BS18-BV18-BY18-CB18+CE18-CK18-CN18+CH18) -> 8071.44 | CR18: =IF($B18=0,"",BQ18+BT18-BW18-BZ18-CC18+CF18-CL18-CO18+CI18) -> 0 | CS18: =IF($B18=0,"",SUMIFS(INPUT_DATA!AQ:AQ,INPUT_DATA!$A:$A,$B18,INPUT_DATA!$B:$B,"D")) -> 499271.63 | CT18: =IF($B18=0,"",SUMIFS(INPUT_DATA!AR:AR,INPUT_DATA!$A:$A,$B18,INPUT_DATA!$B:$B,"D")) -> 8071.44 | CU18: =IF($B18=0,"",SUMIFS(INPUT_DATA!AS:AS,INPUT_DATA!$A:$A,$B18,INPUT_DATA!$B:$B,"D")) -> 0 | CV18: =IF($B18=0,"",CP18-CS18) -> 0 | CW18: =IF($B18=0,"",CQ18-CT18) -> 9.094947e-13 | CX18: =IF($B18=0,"",CR18-CU18) -> 0 | CZ18: =SUM(C18:BA18) -> 3.2094729e+10
B19: =INPUT_DATA!CR6 -> 46203 | C19: =IF($B19=0,"",SUMIFS(INPUT_DATA!C:C,INPUT_DATA!$A:$A,$B19,INPUT_DATA!$B:$B,"S")) -> 1.0826314e+10 | D19: =IF($B19=0,"",SUMIFS(INPUT_DATA!D:D,INPUT_DATA!$A:$A,$B19,INPUT_DATA!$B:$B,"S")) -> 0 | E19: =IF($B19=0,"",SUMIFS(INPUT_DATA!E:E,INPUT_DATA!$A:$A,$B19,INPUT_DATA!$B:$B,"S")) -> 57741420 | F19: =IF($B19=0,"",SUMIFS(INPUT_DATA!F:F,INPUT_DATA!$A:$A,$B19,INPUT_DATA!$B:$B,"S")) -> 21785340 | G19: =IF($B19=0,"",SUMIFS(INPUT_DATA!G:G,INPUT_DATA!$A:$A,$B19,INPUT_DATA!$B:$B,"S")) -> 0 | H19: =IF($B19=0,"",SUMIFS(INPUT_DATA!H:H,INPUT_DATA!$A:$A,$B19,INPUT_DATA!$B:$B,"S")) -> 0 | I19: =IF($B19=0,"",SUMIFS(INPUT_DATA!I:I,INPUT_DATA!$A:$A,$B19,INPUT_DATA!$B:$B,"S")) -> 0 | J19: =IF($B19=0,"",SUMIFS(INPUT_DATA!J:J,INPUT_DATA!$A:$A,$B19,INPUT_DATA!$B:$B,"S")) -> 0 | K19: =IF($B19=0,"",SUMIFS(INPUT_DATA!K:K,INPUT_DATA!$A:$A,$B19,INPUT_DATA!$B:$B,"S")) -> 1114351.1 | L19: =IF($B19=0,"",SUMIFS(INPUT_DATA!L:L,INPUT_DATA!$A:$A,$B19,INPUT_DATA!$B:$B,"S")) -> 0 | M19: =IF($B19=0,"",SUMIFS(INPUT_DATA!M:M,INPUT_DATA!$A:$A,$B19,INPUT_DATA!$B:$B,"S")) -> 6910945.5 | N19: =IF($B19=0,"",SUMIFS(INPUT_DATA!N:N,INPUT_DATA!$A:$A,$B19,INPUT_DATA!$B:$B,"S")) -> 7352411.7 | O19: =IF($B19=0,"",C19+D19-E19-F19+G19+H19+I19-J19-K19-M19-N19-L19) -> 1.073141e+10 | P19: =IF($B19=0,"",SUMIFS(INPUT_DATA!O:O,INPUT_DATA!$A:$A,$B19,INPUT_DATA!$B:$B,"S")) -> 1.073141e+10 | Q19: =IF($B19=0,"",O19-P19) -> 1.9073486e-06 | R19: =IF($B19=0,"",SUMIFS(INPUT_DATA!BL:BL,INPUT_DATA!$A:$A,$B19,INPUT_DATA!$B:$B,"S")) -> 11854716 | S19: =IF($B19=0,"",SUMIFS(INPUT_DATA!P:P,INPUT_DATA!$A:$A,$B19,INPUT_DATA!$B:$B,"S")) -> 725774.75 | T19: =IF($B19=0,"",SUMIFS(INPUT_DATA!Q:Q,INPUT_DATA!$A:$A,$B19,INPUT_DATA!$B:$B,"S")) -> 150401.02 | U19: =IF($B19=0,"",SUMIFS(INPUT_DATA!R:R,INPUT_DATA!$A:$A,$B19,INPUT_DATA!$B:$B,"S")) -> 0 | V19: =IF($B19=0,"",SUMIFS(INPUT_DATA!S:S,INPUT_DATA!$A:$A,$B19,INPUT_DATA!$B:$B,"S")) -> 235995.63 | W19: =IF($B19=0,"",SUMIFS(INPUT_DATA!T:T,INPUT_DATA!$A:$A,$B19,INPUT_DATA!$B:$B,"S")) -> 60128.87 | X19: =IF($B19=0,"",SUMIFS(INPUT_DATA!U:U,INPUT_DATA!$A:$A,$B19,INPUT_DATA!$B:$B,"S")) -> 0 | Y19: =IF($B19=0,"",SUMIFS(INPUT_DATA!V:V,INPUT_DATA!$A:$A,$B19,INPUT_DATA!$B:$B,"S")) -> 176875.08 | Z19: =IF($B19=0,"",SUMIFS(INPUT_DATA!W:W,INPUT_DATA!$A:$A,$B19,INPUT_DATA!$B:$B,"S")) -> 35922.3 | AA19: =IF($B19=0,"",SUMIFS(INPUT_DATA!X:X,INPUT_DATA!$A:$A,$B19,INPUT_DATA!$B:$B,"S")) -> 0 | AB19: =IF($B19=0,"",SUMIFS(INPUT_DATA!Y:Y,INPUT_DATA!$A:$A,$B19,INPUT_DATA!$B:$B,"S")) -> 0 | AC19: =IF($B19=0,"",SUMIFS(INPUT_DATA!Z:Z,INPUT_DATA!$A:$A,$B19,INPUT_DATA!$B:$B,"S")) -> 0 | AD19: =IF($B19=0,"",SUMIFS(INPUT_DATA!AA:AA,INPUT_DATA!$A:$A,$B19,INPUT_DATA!$B:$B,"S")) -> 0 | AE19: =IF($B19=0,"",SUMIFS(INPUT_DATA!AB:AB,INPUT_DATA!$A:$A,$B19,INPUT_DATA!$B:$B,"S")) -> 0 | AF19: =IF($B19=0,"",SUMIFS(INPUT_DATA!AC:AC,INPUT_DATA!$A:$A,$B19,INPUT_DATA!$B:$B,"S")) -> 0 | AG19: =IF($B19=0,"",SUMIFS(INPUT_DATA!AD:AD,INPUT_DATA!$A:$A,$B19,INPUT_DATA!$B:$B,"S")) -> 0 | AH19: =IF($B19=0,"",SUMIFS(INPUT_DATA!AE:AE,INPUT_DATA!$A:$A,$B19,INPUT_DATA!$B:$B,"S")) -> 16355.01 | AI19: =IF($B19=0,"",SUMIFS(INPUT_DATA!AF:AF,INPUT_DATA!$A:$A,$B19,INPUT_DATA!$B:$B,"S")) -> 3562.25 | AJ19: =IF($B19=0,"",SUMIFS(INPUT_DATA!AG:AG,INPUT_DATA!$A:$A,$B19,INPUT_DATA!$B:$B,"S")) -> 0 | AK19: =IF($B19=0,"",SUMIFS(INPUT_DATA!AK:AK,INPUT_DATA!$A:$A,$B19,INPUT_DATA!$B:$B,"S")) -> 480.84 | AL19: =IF($B19=0,"",SUMIFS(INPUT_DATA!AL:AL,INPUT_DATA!$A:$A,$B19,INPUT_DATA!$B:$B,"S")) -> 59.79 | AM19: =IF($B19=0,"",SUMIFS(INPUT_DATA!AM:AM,INPUT_DATA!$A:$A,$B19,INPUT_DATA!$B:$B,"S")) -> 0 | AN19: =IF($B19=0,"",SUMIFS(INPUT_DATA!AN:AN,INPUT_DATA!$A:$A,$B19,INPUT_DATA!$B:$B,"S")) -> 12272.12 | AO19: =IF($B19=0,"",SUMIFS(INPUT_DATA!AO:AO,INPUT_DATA!$A:$A,$B19,INPUT_DATA!$B:$B,"S")) -> 6735.73 | AP19: =IF($B19=0,"",SUMIFS(INPUT_DATA!AP:AP,INPUT_DATA!$A:$A,$B19,INPUT_DATA!$B:$B,"S")) -> 0 | AQ19: =IF($B19=0,"",S19+V19-Y19-AB19-AE19-AH19-AK19-AN19) -> 755787.33 | AR19: =IF($B19=0,"",T19+W19-Z19-AC19-AF19-AI19-AL19-AO19) -> 164249.82 | AS19: =IF($B19=0,"",U19+X19-AA19-AD19-AG19-AJ19-AM19-AP19) -> 0 | AT19: =IF($B19=0,"",SUMIFS(INPUT_DATA!AQ:AQ,INPUT_DATA!$A:$A,$B19,INPUT_DATA!$B:$B,"S")) -> 755787.33 | AU19: =IF($B19=0,"",SUMIFS(INPUT_DATA!AR:AR,INPUT_DATA!$A:$A,$B19,INPUT_DATA!$B:$B,"S")) -> 164249.82 | AV19: =IF($B19=0,"",SUMIFS(INPUT_DATA!AS:AS,INPUT_DATA!$A:$A,$B19,INPUT_DATA!$B:$B,"S")) -> 0 | AW19: =IF($B19=0,"",AQ19-AT19) -> 1.1641532e-10 | AX19: =IF($B19=0,"",AR19-AU19) -> -5.8207661e-11 | AY19: =IF($B19=0,"",AS19-AV19) -> 0 | BA19: =IF($B19=0,"",SUMIFS(INPUT_DATA!C:C,INPUT_DATA!$A:$A,$B19,INPUT_DATA!$B:$B,"D")) -> 874993.34 | BB19: =IF($B19=0,"",SUMIFS(INPUT_DATA!E:E,INPUT_DATA!$A:$A,$B19,INPUT_DATA!$B:$B,"D")) -> 365956.22 | BC19: =IF($B19=0,"",SUMIFS(INPUT_DATA!F:F,INPUT_DATA!$A:$A,$B19,INPUT_DATA!$B:$B,"D")) -> 0 | BD19: =IF($B19=0,"",SUMIFS(INPUT_DATA!G:G,INPUT_DATA!$A:$A,$B19,INPUT_DATA!$B:$B,"D")) -> 0 | BE19: =IF($B19=0,"",SUMIFS(INPUT_DATA!H:H,INPUT_DATA!$A:$A,$B19,INPUT_DATA!$B:$B,"D")) -> 0 | BF19: =IF($B19=0,"",SUMIFS(INPUT_DATA!I:I,INPUT_DATA!$A:$A,$B19,INPUT_DATA!$B:$B,"D")) -> 0 | BG19: =IF($B19=0,"",SUMIFS(INPUT_DATA!J:J,INPUT_DATA!$A:$A,$B19,INPUT_DATA!$B:$B,"D")) -> 0 | BH19: =IF($B19=0,"",SUMIFS(INPUT_DATA!K:K,INPUT_DATA!$A:$A,$B19,INPUT_DATA!$B:$B,"D")) -> 1114351.1 | BI19: =IF($B19=0,"",SUMIFS(INPUT_DATA!L:L,INPUT_DATA!$A:$A,$B19,INPUT_DATA!$B:$B,"D")) -> 0 | BJ19: =IF($B19=0,"",SUMIFS(INPUT_DATA!M:M,INPUT_DATA!$A:$A,$B19,INPUT_DATA!$B:$B,"D")) -> 872226.22 | BK19: =IF($B19=0,"",SUMIFS(INPUT_DATA!N:N,INPUT_DATA!$A:$A,$B19,INPUT_DATA!$B:$B,"D")) -> 0 | BL19: =IF($B19=0,"",AZ19+BA19-BB19-BC19+BD19+BE19+BF19-BG19+BH19-BJ19-BK19) -> 751161.99 | BM19: =IF($B19=0,"",SUMIFS(INPUT_DATA!O:O,INPUT_DATA!$A:$A,$B19,INPUT_DATA!$B:$B,"D")) -> 751161.99 | BN19: =IF($B19=0,"",BL19-BM19) -> 0 | BO19: =IF($B19=0,"",SUMIFS(INPUT_DATA!P:P,INPUT_DATA!$A:$A,$B19,INPUT_DATA!$B:$B,"D")) -> 31279.87 | BP19: =IF($B19=0,"",SUMIFS(INPUT_DATA!Q:Q,INPUT_DATA!$A:$A,$B19,INPUT_DATA!$B:$B,"D")) -> 10195.69 | BQ19: =IF($B19=0,"",SUMIFS(INPUT_DATA!R:R,INPUT_DATA!$A:$A,$B19,INPUT_DATA!$B:$B,"D")) -> 0 | BR19: =IF($B19=0,"",SUMIFS(INPUT_DATA!S:S,INPUT_DATA!$A:$A,$B19,INPUT_DATA!$B:$B,"D")) -> 309615.06 | BS19: =IF($B19=0,"",SUMIFS(INPUT_DATA!T:T,INPUT_DATA!$A:$A,$B19,INPUT_DATA!$B:$B,"D")) -> 1554.45 | BT19: =IF($B19=0,"",SUMIFS(INPUT_DATA!U:U,INPUT_DATA!$A:$A,$B19,INPUT_DATA!$B:$B,"D")) -> 0 | BU19: =IF($B19=0,"",SUMIFS(INPUT_DATA!V:V,INPUT_DATA!$A:$A,$B19,INPUT_DATA!$B:$B,"D")) -> 0 | BV19: =IF($B19=0,"",SUMIFS(INPUT_DATA!W:W,INPUT_DATA!$A:$A,$B19,INPUT_DATA!$B:$B,"D")) -> 0 | BW19: =IF($B19=0,"",SUMIFS(INPUT_DATA!X:X,INPUT_DATA!$A:$A,$B19,INPUT_DATA!$B:$B,"D")) -> 0 | BX19: =IF($B19=0,"",SUMIFS(INPUT_DATA!Y:Y,INPUT_DATA!$A:$A,$B19,INPUT_DATA!$B:$B,"D")) -> 0 | BY19: =IF($B19=0,"",SUMIFS(INPUT_DATA!Z:Z,INPUT_DATA!$A:$A,$B19,INPUT_DATA!$B:$B,"D")) -> 0 | BZ19: =IF($B19=0,"",SUMIFS(INPUT_DATA!AA:AA,INPUT_DATA!$A:$A,$B19,INPUT_DATA!$B:$B,"D")) -> 0 | CA19: =IF($B19=0,"",SUMIFS(INPUT_DATA!AB:AB,INPUT_DATA!$A:$A,$B19,INPUT_DATA!$B:$B,"D")) -> 0 | CB19: =IF($B19=0,"",SUMIFS(INPUT_DATA!AC:AC,INPUT_DATA!$A:$A,$B19,INPUT_DATA!$B:$B,"D")) -> 0 | CC19: =IF($B19=0,"",SUMIFS(INPUT_DATA!AD:AD,INPUT_DATA!$A:$A,$B19,INPUT_DATA!$B:$B,"D")) -> 0 | CD19: =IF($B19=0,"",SUMIFS(INPUT_DATA!AE:AE,INPUT_DATA!$A:$A,$B19,INPUT_DATA!$B:$B,"D")) -> 16355.01 | CE19: =IF($B19=0,"",SUMIFS(INPUT_DATA!AF:AF,INPUT_DATA!$A:$A,$B19,INPUT_DATA!$B:$B,"D")) -> 3562.25 | CF19: =IF($B19=0,"",SUMIFS(INPUT_DATA!AG:AG,INPUT_DATA!$A:$A,$B19,INPUT_DATA!$B:$B,"D")) -> 0 | CG19: =IF($B19=0,"",SUMIFS(INPUT_DATA!AH:AH,INPUT_DATA!$A:$A,$B19,INPUT_DATA!$B:$B,"D")) -> 0 | CH19: =IF($B19=0,"",SUMIFS(INPUT_DATA!AI:AI,INPUT_DATA!$A:$A,$B19,INPUT_DATA!$B:$B,"D")) -> 0 | CI19: =IF($B19=0,"",SUMIFS(INPUT_DATA!AJ:AJ,INPUT_DATA!$A:$A,$B19,INPUT_DATA!$B:$B,"D")) -> 0 | CJ19: =IF($B19=0,"",SUMIFS(INPUT_DATA!AK:AK,INPUT_DATA!$A:$A,$B19,INPUT_DATA!$B:$B,"D")) -> 190215.57 | CK19: =IF($B19=0,"",SUMIFS(INPUT_DATA!AL:AL,INPUT_DATA!$A:$A,$B19,INPUT_DATA!$B:$B,"D")) -> 9791.64 | CL19: =IF($B19=0,"",SUMIFS(INPUT_DATA!AM:AM,INPUT_DATA!$A:$A,$B19,INPUT_DATA!$B:$B,"D")) -> 0 | CM19: =IF($B19=0,"",SUMIFS(INPUT_DATA!AN:AN,INPUT_DATA!$A:$A,$B19,INPUT_DATA!$B:$B,"D")) -> 0 | CN19: =IF($B19=0,"",SUMIFS(INPUT_DATA!AO:AO,INPUT_DATA!$A:$A,$B19,INPUT_DATA!$B:$B,"D")) -> 0 | CO19: =IF($B19=0,"",SUMIFS(INPUT_DATA!AP:AP,INPUT_DATA!$A:$A,$B19,INPUT_DATA!$B:$B,"D")) -> 0 | CP19: =IF($B19=0,"",BO19+BR19-BU19-BX19-CA19+CD19-CJ19-CM19+CG19) -> 167034.37 | CQ19: =IF($B19=0,"",BP19+BS19-BV19-BY19-CB19+CE19-CK19-CN19+CH19) -> 5520.75 | CR19: =IF($B19=0,"",BQ19+BT19-BW19-BZ19-CC19+CF19-CL19-CO19+CI19) -> 0 | CS19: =IF($B19=0,"",SUMIFS(INPUT_DATA!AQ:AQ,INPUT_DATA!$A:$A,$B19,INPUT_DATA!$B:$B,"D")) -> 167034.37 | CT19: =IF($B19=0,"",SUMIFS(INPUT_DATA!AR:AR,INPUT_DATA!$A:$A,$B19,INPUT_DATA!$B:$B,"D")) -> 5520.75 | CU19: =IF($B19=0,"",SUMIFS(INPUT_DATA!AS:AS,INPUT_DATA!$A:$A,$B19,INPUT_DATA!$B:$B,"D")) -> 0 | CV19: =IF($B19=0,"",CP19-CS19) -> 0 | CW19: =IF($B19=0,"",CQ19-CT19) -> 1.8189894e-12 | CX19: =IF($B19=0,"",CR19-CU19) -> 0
